BEGIN:VCALENDAR
VERSION:2.0
PRODID:-//ChamberMaster//Event Calendar 2.0//EN
METHOD:PUBLISH
X-PUBLISHED-TTL:P3D
REFRESH-INTERVAL:P3D
CALSCALE:GREGORIAN
BEGIN:VEVENT
DTSTART:19980618T050000Z
DTEND:19980618T050000Z
X-MICROSOFT-CDO-ALLDAYEVENT:FALSE
SUMMARY:Customer Service Training Program - June 18\, 1998
DESCRIPTION:Customer Service Training Program - June 18\, 1998
X-ALT-DESC;FMTTYPE=text/html:Customer Service Training Program - June 18\, 1998
LOCATION:
UID:e.2754.2290
SEQUENCE:3
DTSTAMP:20260420T021646Z
URL:https://chambermaster.businesscentralmagazine.com/events/details/customer-service-training-program-june-18-1998-06-18-1998-2290
END:VEVENT

END:VCALENDAR
