BEGIN:VCALENDAR
VERSION:2.0
PRODID:-//ChamberMaster//Event Calendar 2.0//EN
METHOD:PUBLISH
X-PUBLISHED-TTL:P3D
REFRESH-INTERVAL:P3D
CALSCALE:GREGORIAN
BEGIN:VEVENT
DTSTART:19971021T050000Z
DTEND:19971021T050000Z
X-MICROSOFT-CDO-ALLDAYEVENT:FALSE
SUMMARY:Customer Service Training Program 10/21/97
DESCRIPTION:Customer Service Training Program 10/21/97
X-ALT-DESC;FMTTYPE=text/html:Customer Service Training Program 10/21/97
LOCATION:
UID:e.2754.2270
SEQUENCE:3
DTSTAMP:20260422T151321Z
URL:https://chambermaster.businesscentralmagazine.com/events/details/customer-service-training-program-10-21-97-10-21-1997-2270
END:VEVENT

END:VCALENDAR
