BEGIN:VCALENDAR
VERSION:2.0
PRODID:-//ChamberMaster//Event Calendar 2.0//EN
METHOD:PUBLISH
X-PUBLISHED-TTL:P3D
REFRESH-INTERVAL:P3D
CALSCALE:GREGORIAN
BEGIN:VEVENT
DTSTART;VALUE=DATE:19971021
DTEND;VALUE=DATE:19971022
TRANSP:TRANSPARENT
X-MICROSOFT-CDO-ALLDAYEVENT:TRUE
SUMMARY:Customer Service Training Program
DESCRIPTION:
X-ALT-DESC;FMTTYPE=text/html:
LOCATION:
UID:e.2754.583
SEQUENCE:3
DTSTAMP:20260422T151210Z
URL:https://chambermaster.businesscentralmagazine.com/events/details/customer-service-training-program-10-21-1997-583
END:VEVENT

END:VCALENDAR
