BEGIN:VCALENDAR
VERSION:2.0
PRODID:-//ChamberMaster//Event Calendar 2.0//EN
METHOD:PUBLISH
X-PUBLISHED-TTL:P3D
REFRESH-INTERVAL:P3D
CALSCALE:GREGORIAN
BEGIN:VEVENT
DTSTART:19981119T060000Z
DTEND:19981119T060000Z
X-MICROSOFT-CDO-ALLDAYEVENT:FALSE
SUMMARY:Customer Service Training - November 19\, 1998
DESCRIPTION:Customer Service Training - November 19\, 1998
X-ALT-DESC;FMTTYPE=text/html:Customer Service Training - November 19\, 1998
LOCATION:
UID:e.2754.2326
SEQUENCE:3
DTSTAMP:20260419T185210Z
URL:https://chambermaster.businesscentralmagazine.com/events/details/customer-service-training-november-19-1998-11-19-1998-2326
END:VEVENT

END:VCALENDAR
