BEGIN:VCALENDAR
VERSION:2.0
PRODID:-//ChamberMaster//Event Calendar 2.0//EN
METHOD:PUBLISH
X-PUBLISHED-TTL:P3D
REFRESH-INTERVAL:P3D
CALSCALE:GREGORIAN
BEGIN:VEVENT
DTSTART:19980115T060000Z
DTEND:19980115T060000Z
X-MICROSOFT-CDO-ALLDAYEVENT:FALSE
SUMMARY:Customer Service Training January 15\, 1998
DESCRIPTION:Customer Service Training January 15\, 1998
X-ALT-DESC;FMTTYPE=text/html:Customer Service Training January 15\, 1998
LOCATION:Presidents Room
UID:e.2754.2277
SEQUENCE:3
DTSTAMP:20260422T103405Z
URL:https://chambermaster.businesscentralmagazine.com/events/details/customer-service-training-january-15-1998-01-15-1998-2277
END:VEVENT

END:VCALENDAR
