BEGIN:VCALENDAR
VERSION:2.0
PRODID:-//ChamberMaster//Event Calendar 2.0//EN
METHOD:PUBLISH
X-PUBLISHED-TTL:P3D
REFRESH-INTERVAL:P3D
CALSCALE:GREGORIAN
BEGIN:VEVENT
DTSTART:19980219T060000Z
DTEND:19980219T060000Z
X-MICROSOFT-CDO-ALLDAYEVENT:FALSE
SUMMARY:Customer Service Training February 19\, 1998
DESCRIPTION:Customer Service Training February 19\, 1998
X-ALT-DESC;FMTTYPE=text/html:Customer Service Training February 19\, 1998
LOCATION:Chamber Presidents Room
UID:e.2754.2278
SEQUENCE:3
DTSTAMP:20260422T085209Z
URL:https://chambermaster.businesscentralmagazine.com/events/details/customer-service-training-february-19-1998-02-19-1998-2278
END:VEVENT

END:VCALENDAR
