BEGIN:VCALENDAR
VERSION:2.0
PRODID:-//ChamberMaster//Event Calendar 2.0//EN
METHOD:PUBLISH
X-PUBLISHED-TTL:P3D
REFRESH-INTERVAL:P3D
CALSCALE:GREGORIAN
BEGIN:VEVENT
DTSTART;VALUE=DATE:19980820
DTEND;VALUE=DATE:19980821
TRANSP:TRANSPARENT
X-MICROSOFT-CDO-ALLDAYEVENT:TRUE
SUMMARY:Customer Service Training August 1998
DESCRIPTION:
X-ALT-DESC;FMTTYPE=text/html:
LOCATION:
UID:e.2754.601
SEQUENCE:3
DTSTAMP:20260419T231714Z
URL:https://chambermaster.businesscentralmagazine.com/events/details/customer-service-training-august-1998-08-20-1998-601
END:VEVENT

END:VCALENDAR
