BEGIN:VCALENDAR
VERSION:2.0
PRODID:-//ChamberMaster//Event Calendar 2.0//EN
METHOD:PUBLISH
X-PUBLISHED-TTL:P3D
REFRESH-INTERVAL:P3D
CALSCALE:GREGORIAN
BEGIN:VEVENT
DTSTART:19980820T050000Z
DTEND:19980820T050000Z
X-MICROSOFT-CDO-ALLDAYEVENT:FALSE
SUMMARY:Customer Service Training August 1998
DESCRIPTION:Customer Service Training August 1998
X-ALT-DESC;FMTTYPE=text/html:Customer Service Training August 1998
LOCATION:
UID:e.2754.2293
SEQUENCE:3
DTSTAMP:20260419T231809Z
URL:https://chambermaster.businesscentralmagazine.com/events/details/customer-service-training-august-1998-08-20-1998-2293
END:VEVENT

END:VCALENDAR
