BEGIN:VCALENDAR
VERSION:2.0
PRODID:-//ChamberMaster//Event Calendar 2.0//EN
METHOD:PUBLISH
X-PUBLISHED-TTL:P3D
REFRESH-INTERVAL:P3D
CALSCALE:GREGORIAN
BEGIN:VEVENT
DTSTART:19980416T050000Z
DTEND:19980416T050000Z
X-MICROSOFT-CDO-ALLDAYEVENT:FALSE
SUMMARY:Customer Service Training April 16\,1998
DESCRIPTION:Customer Service Training April 16\,1998
X-ALT-DESC;FMTTYPE=text/html:Customer Service Training April 16\,1998
LOCATION:Presidents Room
UID:e.2754.2280
SEQUENCE:3
DTSTAMP:20260420T050923Z
URL:https://chambermaster.businesscentralmagazine.com/events/details/customer-service-training-april-16-1998-04-16-1998-2280
END:VEVENT

END:VCALENDAR
