BEGIN:VCALENDAR
VERSION:2.0
PRODID:-//ChamberMaster//Event Calendar 2.0//EN
METHOD:PUBLISH
X-PUBLISHED-TTL:P3D
REFRESH-INTERVAL:P3D
CALSCALE:GREGORIAN
BEGIN:VEVENT
DTSTART:19990224T060000Z
DTEND:19990224T060000Z
X-MICROSOFT-CDO-ALLDAYEVENT:FALSE
SUMMARY:Customer Service Training
DESCRIPTION:Customer Service Training
X-ALT-DESC;FMTTYPE=text/html:Customer Service Training
LOCATION:
UID:e.2754.2330
SEQUENCE:3
DTSTAMP:20260419T144019Z
URL:https://chambermaster.businesscentralmagazine.com/events/details/customer-service-training-02-24-1999-2330
END:VEVENT

END:VCALENDAR
