BEGIN:VCALENDAR
VERSION:2.0
PRODID:-//ChamberMaster//Event Calendar 2.0//EN
METHOD:PUBLISH
X-PUBLISHED-TTL:P3D
REFRESH-INTERVAL:P3D
CALSCALE:GREGORIAN
BEGIN:VEVENT
DTSTART;VALUE=DATE:20250719
DTEND;VALUE=DATE:20250720
TRANSP:TRANSPARENT
X-MICROSOFT-CDO-ALLDAYEVENT:TRUE
SUMMARY:Crew for Kids 2025 | Benefitting Big Brothers Big Sisters
DESCRIPTION:Crew for Kids- 16th Annual\n\n \nGet your car washed for a great cause!\n\n \n\nOn Saturday\, July 19\, 2025\, visit any Crew Carwash location\, and we'll donate 50% of all Ultimate Wash purchases to Big Brothers Big Sisters! We'll also give 50% of all Ultimate Unlimited Club member washes and 100% of all on-site donations to this fantastic cause.\n\nIn 2024\, Crew Carwash raised over $200\,000 to support local youth. Let's go even bigger in 2025!\n\nAll locations will be open from 7 AM   9 PM.\n\n\n\nRain Date July 26th
X-ALT-DESC;FMTTYPE=text/html:Crew for Kids- 16th Annual<br />\n&nbsp\;\n<div>Get your car washed for a great cause!<br />\n&nbsp\;</div>\n\n<div>On Saturday\, July 19\, 2025\, visit any Crew Carwash location\, and we&rsquo\;ll donate 50% of all Ultimate Wash purchases to Big Brothers Big Sisters! We&rsquo\;ll also give 50% of all Ultimate Unlimited Club member washes and 100% of all on-site donations to this fantastic cause.</div>\n\n<div>In 2024\, Crew Carwash raised over $200\,000 to support local youth. Let&rsquo\;s go even bigger in 2025!</div>\n\n<div>All locations will be open from 7 AM &ndash\; 9 PM.<br />\n<br />\nRain Date July 26th</div>\n
LOCATION:Crew Carwash 4118 Division St St. Cloud\, MN
UID:e.2754.12293
SEQUENCE:3
DTSTAMP:20260423T011432Z
URL:https://chambermaster.businesscentralmagazine.com/events/details/crew-for-kids-2025-benefitting-big-brothers-big-sisters-12293
END:VEVENT

END:VCALENDAR
