BEGIN:VCALENDAR
VERSION:2.0
PRODID:-//ChamberMaster//Event Calendar 2.0//EN
METHOD:PUBLISH
X-PUBLISHED-TTL:P3D
REFRESH-INTERVAL:P3D
CALSCALE:GREGORIAN
BEGIN:VEVENT
DTSTART;VALUE=DATE:20230715
DTEND;VALUE=DATE:20230716
TRANSP:TRANSPARENT
X-MICROSOFT-CDO-ALLDAYEVENT:TRUE
SUMMARY:Crew Carwash/Big Brothers Big Sisters of Central Minnesota 7-15-2023
DESCRIPTION:We're excited to share that we'll be hosting our 14th annual 'Crew for Kids' fundraiser with Big Brothers Big Sisters on July 15th at all Crew Carwash locations. Every year\, we partner with Big Brothers Big Sisters chapters in each county where we have an established Crew Carwash location. As part of the fundraiser\, Crew will donate 50% of the proceeds from the 'Ultimate' wash to Big Brothers Big Sisters. Last year\, we raised over $110k from this one-day event and have raised over $1M since we've started this fundraising partnership.  We look forward to raising more this year!
X-ALT-DESC;FMTTYPE=text/html:We&rsquo\;re excited to share that we&rsquo\;ll be hosting our 14<em>th</em> annual &lsquo\;Crew for Kids&rsquo\; fundraiser with Big Brothers Big Sisters on July 15<em>th</em> at all Crew Carwash locations. Every year\, we partner with Big Brothers Big Sisters chapters in each county where we have an established Crew Carwash location. As part of the fundraiser\, Crew will donate 50% of the proceeds from the &lsquo\;<em>Ultimate&rsquo\;</em> wash to Big Brothers Big Sisters. Last year\, we raised over $110k from this one-day event and have raised over $1M since we&rsquo\;ve started this fundraising partnership.&nbsp\; We look forward to raising more this year!
LOCATION:4118 W Division St. St. Cloud\, MN 56301
UID:e.2754.10460
SEQUENCE:3
DTSTAMP:20260424T143732Z
URL:https://chambermaster.businesscentralmagazine.com/events/details/crew-carwash-big-brothers-big-sisters-of-central-minnesota-7-15-2023-10460
END:VEVENT

END:VCALENDAR
