BEGIN:VCALENDAR
VERSION:2.0
PRODID:-//ChamberMaster//Event Calendar 2.0//EN
METHOD:PUBLISH
X-PUBLISHED-TTL:P3D
REFRESH-INTERVAL:P3D
CALSCALE:GREGORIAN
BEGIN:VEVENT
DTSTART;VALUE=DATE:20250426
DTEND;VALUE=DATE:20250427
TRANSP:TRANSPARENT
X-MICROSOFT-CDO-ALLDAYEVENT:TRUE
SUMMARY:Good Shepherd Foundation - Concert for a CAUSE
DESCRIPTION:Good Shepherd Foundation and the St. Cloud Area Singing Saints present "Concert\n\nfor a Cause" on April 26th at The Love of Christ Church in St Cloud.   Enjoy a fabulous  Doo-Wop performance  from the St. Cloud Area Singing Saints and two \n\nguest performance quartets ~ Sound Image and Kordal Combat.  Concert for a Cause tickets are only $20 and you can Purchase through Good Shepherd Community. \n\nProceeds support Good Shepherd Foundation's mission of  Graceful Living for our aging community and the St. Cloud Area Singing Saints.
X-ALT-DESC;FMTTYPE=text/html:<span style="color:black"><span style="font-family:times new roman\,serif"><span style="font-size:14.0pt">Good Shepherd Foundation and the St. Cloud Area Singing Saints present &ldquo\;Concert</span></span></span><br />\n<span style="color:black"><span style="font-family:times new roman\,serif"><span style="font-size:14.0pt">for a Cause&rdquo\; on April 26<sup>th</sup> at The Love of Christ Church in St Cloud.&nbsp\; &nbsp\;Enjoy a fabulous &nbsp\;Doo-Wop performance &nbsp\;from the St. Cloud Area Singing Saints and two </span></span></span><br />\n<span style="color:black"><span style="font-family:times new roman\,serif"><span style="font-size:14.0pt">guest performance quartets ~ Sound Image and Kordal Combat.&nbsp\; Concert for a Cause tickets are only $20 and you can Purchase through Good Shepherd Community. </span></span></span><br />\n<span style="color:black"><span style="font-family:times new roman\,serif"><span style="font-size:14.0pt">Proceeds support Good Shepherd Foundation&rsquo\;s mission of &nbsp\;Graceful Living&nbsp\;for our aging community&nbsp\;and the St. Cloud Area Singing Saints. </span></span></span><br />\n&nbsp\;
LOCATION:The Love of Christ Church\, St. Cloud MN
UID:e.2754.11472
SEQUENCE:3
DTSTAMP:20260423T071056Z
URL:https://chambermaster.businesscentralmagazine.com/events/details/concert-for-a-cause-11472
END:VEVENT

END:VCALENDAR
