BEGIN:VCALENDAR
VERSION:2.0
PRODID:-//ChamberMaster//Event Calendar 2.0//EN
METHOD:PUBLISH
X-PUBLISHED-TTL:P3D
REFRESH-INTERVAL:P3D
CALSCALE:GREGORIAN
BEGIN:VEVENT
DTSTART:19960901T050000Z
DTEND:19960910T050000Z
X-MICROSOFT-CDO-ALLDAYEVENT:FALSE
SUMMARY:Chamber Pak for Sept. 1996
DESCRIPTION:Chamber Pak for Sept. 1996
X-ALT-DESC;FMTTYPE=text/html:Chamber Pak for Sept. 1996
LOCATION:
UID:e.2754.2232
SEQUENCE:3
DTSTAMP:20260423T105624Z
URL:https://chambermaster.businesscentralmagazine.com/events/details/chamber-pak-for-sept-1996-09-01-1996-2232
END:VEVENT

END:VCALENDAR
