BEGIN:VCALENDAR
VERSION:2.0
PRODID:-//ChamberMaster//Event Calendar 2.0//EN
METHOD:PUBLISH
X-PUBLISHED-TTL:P3D
REFRESH-INTERVAL:P3D
CALSCALE:GREGORIAN
BEGIN:VEVENT
DTSTART:19961108T060000Z
DTEND:19961108T060000Z
X-MICROSOFT-CDO-ALLDAYEVENT:FALSE
SUMMARY:Chamber Pak for November 1996
DESCRIPTION:Chamber Pak for November 1996
X-ALT-DESC;FMTTYPE=text/html:Chamber Pak for November 1996
LOCATION:
UID:e.2754.2237
SEQUENCE:3
DTSTAMP:20260423T074635Z
URL:https://chambermaster.businesscentralmagazine.com/events/details/chamber-pak-for-november-1996-11-08-1996-2237
END:VEVENT

END:VCALENDAR
