BEGIN:VCALENDAR
VERSION:2.0
PRODID:-//ChamberMaster//Event Calendar 2.0//EN
METHOD:PUBLISH
X-PUBLISHED-TTL:P3D
REFRESH-INTERVAL:P3D
CALSCALE:GREGORIAN
BEGIN:VEVENT
DTSTART:19960801T050000Z
DTEND:19960806T050000Z
X-MICROSOFT-CDO-ALLDAYEVENT:FALSE
SUMMARY:Chamber Pak for August 1996
DESCRIPTION:Chamber Pak for August 1996
X-ALT-DESC;FMTTYPE=text/html:Chamber Pak for August 1996
LOCATION:
UID:e.2754.2224
SEQUENCE:3
DTSTAMP:20260423T122011Z
URL:https://chambermaster.businesscentralmagazine.com/events/details/chamber-pak-for-august-1996-08-01-1996-2224
END:VEVENT

END:VCALENDAR
