BEGIN:VCALENDAR
VERSION:2.0
PRODID:-//ChamberMaster//Event Calendar 2.0//EN
METHOD:PUBLISH
X-PUBLISHED-TTL:P3D
REFRESH-INTERVAL:P3D
CALSCALE:GREGORIAN
BEGIN:VEVENT
DTSTART:19970109T060000Z
DTEND:19970301T060000Z
X-MICROSOFT-CDO-ALLDAYEVENT:FALSE
SUMMARY:Chamber Pak February 1997
DESCRIPTION:Chamber Pak February 1997
X-ALT-DESC;FMTTYPE=text/html:Chamber Pak February 1997
LOCATION:
UID:e.2754.2241
SEQUENCE:3
DTSTAMP:20260423T014248Z
URL:https://chambermaster.businesscentralmagazine.com/events/details/chamber-pak-february-1997-01-09-1997-2241
END:VEVENT

END:VCALENDAR
