BEGIN:VCALENDAR
VERSION:2.0
PRODID:-//ChamberMaster//Event Calendar 2.0//EN
METHOD:PUBLISH
X-PUBLISHED-TTL:P3D
REFRESH-INTERVAL:P3D
CALSCALE:GREGORIAN
BEGIN:VEVENT
DTSTART:20250728T153000Z
DTEND:20250728T233000Z
X-MICROSOFT-CDO-ALLDAYEVENT:FALSE
SUMMARY:Chamber Open - Territory Golf Club- July 28\, 2025
DESCRIPTION:!!!!!TEAM REGISTRATION is SOLD OUT!!!!!\n\n\n\nSign up to be a sponsor or to golf in the 2025 Chamber Open golf event.\n\nCLICK the REGISTER button to the right to select your sponsorship level or register to golf.\n\n\n\n2025 Chamber Open at Territory Golf Course\n\nJuly 28\, 2025\n\n10:30 a.m. shotgun start\n\n18 holes\n\nLunch on the course\n\nSponsor opportunities and games\n\nAwards and appetizers after
X-ALT-DESC;FMTTYPE=text/html:<br />\n<span style="color: rgb(255\, 0\, 0)\; font-family: verdana\; font-size: 14px\;">!!!!!TEAM REGISTRATION is SOLD OUT!!!!!</span><br />\n<br />\n<strong>Sign up to be a sponsor or to golf in the 2025 Chamber Open golf event.<br />\nCLICK the REGISTER button to the right to select your sponsorship level or register to golf.</strong><br />\n<br />\n<strong>2025 Chamber Open at Territory Golf Course<br />\nJuly 28\, 2025<br />\n10:30 a.m. shotgun start<br />\n18 holes<br />\nLunch on the course<br />\nSponsor opportunities and games<br />\nAwards and appetizers after</strong><br />\n<br />\n&nbsp\;
LOCATION:Territory Golf Club 480 55th Ave SE St. Cloud\, MN 56304
UID:e.2754.11441
SEQUENCE:3
DTSTAMP:20260423T024723Z
URL:https://chambermaster.businesscentralmagazine.com/events/details/chamber-open-territory-golf-club-july-28-2025-11441
END:VEVENT

END:VCALENDAR
