BEGIN:VCALENDAR
VERSION:2.0
PRODID:-//ChamberMaster//Event Calendar 2.0//EN
METHOD:PUBLISH
X-PUBLISHED-TTL:P3D
REFRESH-INTERVAL:P3D
CALSCALE:GREGORIAN
BEGIN:VEVENT
DTSTART;VALUE=DATE:19970811
DTEND;VALUE=DATE:19970812
TRANSP:TRANSPARENT
X-MICROSOFT-CDO-ALLDAYEVENT:TRUE
SUMMARY:Chamber Golf Open - PM start
DESCRIPTION:
X-ALT-DESC;FMTTYPE=text/html:
LOCATION:St. Cloud Country Club
UID:e.2754.560
SEQUENCE:3
DTSTAMP:20260422T181450Z
URL:https://chambermaster.businesscentralmagazine.com/events/details/chamber-golf-open-pm-start-08-11-1997-560
END:VEVENT

END:VCALENDAR
