BEGIN:VCALENDAR
VERSION:2.0
PRODID:-//ChamberMaster//Event Calendar 2.0//EN
METHOD:PUBLISH
X-PUBLISHED-TTL:P3D
REFRESH-INTERVAL:P3D
CALSCALE:GREGORIAN
BEGIN:VEVENT
DTSTART:19980810T050000Z
DTEND:19980810T050000Z
X-MICROSOFT-CDO-ALLDAYEVENT:FALSE
SUMMARY:Chamber Golf Open 2000 - Lunch Only
DESCRIPTION:Chamber Golf Open 2000 - Lunch Only
X-ALT-DESC;FMTTYPE=text/html:Chamber Golf Open 2000 - Lunch Only
LOCATION:
UID:e.2754.2413
SEQUENCE:3
DTSTAMP:20260419T231930Z
URL:https://chambermaster.businesscentralmagazine.com/events/details/chamber-golf-open-2000-lunch-only-08-10-1998-2413
END:VEVENT

END:VCALENDAR
