BEGIN:VCALENDAR
VERSION:2.0
PRODID:-//ChamberMaster//Event Calendar 2.0//EN
METHOD:PUBLISH
X-PUBLISHED-TTL:P3D
REFRESH-INTERVAL:P3D
CALSCALE:GREGORIAN
BEGIN:VEVENT
DTSTART:19980810T050000Z
DTEND:19980810T050000Z
X-MICROSOFT-CDO-ALLDAYEVENT:FALSE
SUMMARY:Chamber Golf Open 1998 - Lunch Only
DESCRIPTION:
X-ALT-DESC;FMTTYPE=text/html:
LOCATION:
UID:e.2754.652
SEQUENCE:3
DTSTAMP:20260419T232033Z
URL:https://chambermaster.businesscentralmagazine.com/events/details/chamber-golf-open-1998-lunch-only-08-10-1998-652
END:VEVENT

END:VCALENDAR
