BEGIN:VCALENDAR
VERSION:2.0
PRODID:-//ChamberMaster//Event Calendar 2.0//EN
METHOD:PUBLISH
X-PUBLISHED-TTL:P3D
REFRESH-INTERVAL:P3D
CALSCALE:GREGORIAN
BEGIN:VEVENT
DTSTART;VALUE=DATE:19980810
DTEND;VALUE=DATE:19980811
TRANSP:TRANSPARENT
X-MICROSOFT-CDO-ALLDAYEVENT:TRUE
SUMMARY:Chamber Golf Open 1998 - Lunch Only
DESCRIPTION:
X-ALT-DESC;FMTTYPE=text/html:
LOCATION:
UID:e.2754.605
SEQUENCE:3
DTSTAMP:20260419T232309Z
URL:https://chambermaster.businesscentralmagazine.com/events/details/chamber-golf-open-1998-lunch-only-08-10-1998-605
END:VEVENT

END:VCALENDAR
