BEGIN:VCALENDAR
VERSION:2.0
PRODID:-//ChamberMaster//Event Calendar 2.0//EN
METHOD:PUBLISH
X-PUBLISHED-TTL:P3D
REFRESH-INTERVAL:P3D
CALSCALE:GREGORIAN
BEGIN:VEVENT
DTSTART:20250711T123000Z
DTEND:20250711T140000Z
X-MICROSOFT-CDO-ALLDAYEVENT:FALSE
SUMMARY:Chamber Connection: WELL and Company 7/11/2025
DESCRIPTION:Chamber Connection is a fun and informal networking group open to all members of the St. Cloud Area Chamber of Commerce. The group meets every Friday morning from 7:30-9:00 a.m. at various locations.\n\n\n\nMeetings usually include networking and a continental breakfast from 7-7:30 am\, followed by introductions from everyone\, two business presentations\, and time to exchange business leads and information at the end of each meeting. Approximately 75 - 125 people attend Chamber Connection each week.\n\n\n\nThe cost to attend is $1 and a business card at the door.\n\n\n\nNOTE: In the event of inclement weather\, the meeting will be relocated to The House Food and Tap\, 13 2nd Ave NW\, Saint Joseph (just a couple doors down from WELL and Company). \n\n\n\nOpportunities to host or co-host a Chamber Connection are available.\n\nPlease call Laura Holzheimer at 320-293-6952 or lauraAholzheimer@gmail.com.
X-ALT-DESC;FMTTYPE=text/html:<br />\n<br />\n<span style="font-family:arial\;"><span style="color:#333333\;"><span style="font-size:9.0pt\;">Chamber Connection is a fun and informal networking group open to all members of the St. Cloud Area Chamber of Commerce. The group meets every Friday morning from 7:30-9:00 a.m. at various locations.</span></span><br />\n<br />\n<span style="color:#333333\;"><span style="font-size:9.0pt\;">Meetings usually include networking and a continental breakfast from 7-7:30 am\, followed by introductions from everyone\, two business presentations\, and time to exchange business leads and information at the end of each meeting. Approximately 75 - 125 people attend Chamber Connection each week.</span></span><br />\n<br />\n<span style="color:#333333\;"><span style="font-size:9.0pt\;">The cost to attend is $1 and a business card at the door.</span></span></span><br />\n<br />\n<strong><u><span style="color:#BA372A\;"><span style="font-family:arial\,sans-serif\;"><span style="font-size:16.5pt\;">NOTE:</span></span></span></u></strong><strong><span style="color:#BA372A\;"><span style="font-family:arial\,sans-serif\;"><span style="font-size:13.5pt\;"> In the event of inclement weather\, the meeting will be relocated to The House Food and Tap\, 13 2nd Ave NW\, Saint Joseph (just a couple doors down from WELL and Company).&nbsp\;</span></span></span></strong><br />\n<br />\n<strong style="font-family: arial\;"><span style="font-size: 9pt\;">Opportunities to host or co-host a Chamber Connection are available.<br />\nPlease call Laura Holzheimer</span></strong><strong style="font-family: arial\;"><span style="font-size: 9pt\;">&nbsp\;at 320-293-6952 or lauraAholzheimer@gmail.com.</span></strong>
LOCATION:WELL and Company - St. Joseph Location 106 2nd Ave NW Ste 2 Saint Joseph\, MN 56374
UID:e.2754.12218
SEQUENCE:3
DTSTAMP:20260423T023452Z
URL:https://chambermaster.businesscentralmagazine.com/events/details/chamber-connection-well-and-company-7-11-2025-12218
END:VEVENT

END:VCALENDAR
