BEGIN:VCALENDAR
VERSION:2.0
PRODID:-//ChamberMaster//Event Calendar 2.0//EN
METHOD:PUBLISH
X-PUBLISHED-TTL:P3D
REFRESH-INTERVAL:P3D
CALSCALE:GREGORIAN
BEGIN:VEVENT
DTSTART:20251017T123000Z
DTEND:20251017T140000Z
X-MICROSOFT-CDO-ALLDAYEVENT:FALSE
SUMMARY:Chamber Connection: SCSU Pace & Career Center 10/17/2025
DESCRIPTION:Chamber Connection is a fun and informal networking group open to all members of the St. Cloud Area Chamber of Commerce. The group meets every Friday morning from 7:30-9:00 a.m. at various locations.\n\n\n\nMeetings usually include networking and a continental breakfast from 7-7:30 am\, followed by introductions from everyone\, two business presentations\, and time to exchange business leads and information at the end of each meeting. Approximately 75 - 125 people attend Chamber Connection each week.\n\n\n\nThe cost to attend is $1 and a business card at the door.\n\n\n\nOpportunities to host or co-host a Chamber Connection are available.\n\nPlease call Laura Holzheimer at 320-293-6952 or lauraAholzheimer@gmail.com.
X-ALT-DESC;FMTTYPE=text/html:<br />\n<br />\n<span style="font-family:arial\;"><span style="color:#333333\;"><span style="font-size:9.0pt\;">Chamber Connection is a fun and informal networking group open to all members of the St. Cloud Area Chamber of Commerce. The group meets every Friday morning from 7:30-9:00 a.m. at various locations.</span></span><br />\n<br />\n<span style="color:#333333\;"><span style="font-size:9.0pt\;">Meetings usually include networking and a continental breakfast from 7-7:30 am\, followed by introductions from everyone\, two business presentations\, and time to exchange business leads and information at the end of each meeting. Approximately 75 - 125 people attend Chamber Connection each week.</span></span><br />\n<br />\n<span style="color:#333333\;"><span style="font-size:9.0pt\;">The cost to attend is $1 and a business card at the door.</span></span></span><br />\n<br />\n<strong style="font-family: arial\;"><span style="font-size: 9pt\;">Opportunities to host or co-host a Chamber Connection are available.<br />\nPlease call Laura Holzheimer</span></strong><strong style="font-family: arial\;"><span style="font-size: 9pt\;">&nbsp\;at 320-293-6952 or lauraAholzheimer@gmail.com.</span></strong>
LOCATION:SCSU Miller Center Library 400 6th Street S St. Cloud\, MN
UID:e.2754.12232
SEQUENCE:3
DTSTAMP:20260422T205036Z
URL:https://chambermaster.businesscentralmagazine.com/events/details/chamber-connection-scsu-pace-career-center-10-17-2025-12232
END:VEVENT

END:VCALENDAR
