BEGIN:VCALENDAR
VERSION:2.0
PRODID:-//ChamberMaster//Event Calendar 2.0//EN
METHOD:PUBLISH
X-PUBLISHED-TTL:P3D
REFRESH-INTERVAL:P3D
CALSCALE:GREGORIAN
BEGIN:VEVENT
DTSTART:20241227T133000Z
DTEND:20241227T150000Z
X-MICROSOFT-CDO-ALLDAYEVENT:FALSE
SUMMARY:Chamber Connection: No Chamber Connection - Happy New Year! 12/27/24
DESCRIPTION:Chamber Connection is a fun and informal networking group open to all members of the St. Cloud Area Chamber of Commerce. The group meets every Friday morning from 7:30-9:00 a.m. at various locations.\nMeetings usually include networking and a continental breakfast from 7-7:30 am\, followed by introductions from everyone\, two business presentations\, and time to exchange business leads and information at the end of each meeting. Approximately 125-150 people attend Chamber Connection each week.\n\nThe cost to attend is $1 and a business card at the door.\n\n\n\nOpportunities to host or co-host a Chamber Connection are available.Please call Laura Holzheimer at 320-293-6952 or lauraAholzheimer@gmail.com.
X-ALT-DESC;FMTTYPE=text/html:<span style="color: rgb(51\, 51\, 51)\; font-size: 13px\; font-family: arial\;"><span style="font-size: 12px\;">Chamber Connection is a fun and informal networking group open to all members of the St. Cloud Area Chamber of Commerce. The group meets every Friday morning from 7:30-9:00 a.m. at various locations.</span></span>\n<p style="color: rgb(51\, 51\, 51)\; font-family: sans-serif\, Arial\, Verdana\, &quot\;Trebuchet MS&quot\;\; font-size: 13px\;"><span style="font-family: arial\;"><span style="font-size: 12px\;">Meetings usually include networking and a continental breakfast from 7-7:30 am\, followed by introductions from everyone\, two business presentations\, and time to exchange business leads and information at the end of each meeting. Approximately 125-150 people attend Chamber Connection each week.</span></span></p>\n\n<p style="color: rgb(51\, 51\, 51)\; font-family: sans-serif\, Arial\, Verdana\, &quot\;Trebuchet MS&quot\;\; font-size: 13px\;"><span style="font-family: arial\;"><span style="font-size: 12px\;">The cost to attend is $1 and a business card at the door.<br />\n<br />\n<strong>Opportunities to host or co-host a Chamber Connection are available.</strong></span></span><strong style="font-family: arial\;"><span style="font-size: 9pt\;">Please call Laura Holzheimer</span></strong><strong style="font-family: arial\;"><span style="font-size: 9pt\;">&nbsp\;at 320-293-6952 or lauraAholzheimer@gmail.com.</span></strong></p>\n
LOCATION:
UID:e.2754.11201
SEQUENCE:3
DTSTAMP:20260423T133708Z
URL:https://chambermaster.businesscentralmagazine.com/events/details/chamber-connection-no-chamber-connection-happy-new-year-12-27-24-11201
END:VEVENT

END:VCALENDAR
