BEGIN:VCALENDAR
VERSION:2.0
PRODID:-//ChamberMaster//Event Calendar 2.0//EN
METHOD:PUBLISH
X-PUBLISHED-TTL:P3D
REFRESH-INTERVAL:P3D
CALSCALE:GREGORIAN
BEGIN:VEVENT
DTSTART:20250822T120000Z
DTEND:20250822T140000Z
X-MICROSOFT-CDO-ALLDAYEVENT:FALSE
SUMMARY:Chamber Connection Gavel Change August 22\, 2025
DESCRIPTION:Gavel Change - August 22\, 2025\n\n\n\nTo be a Gavel Change sponsor\, contact any of the Chamber Connection "Fun" Location Committee members for a sponsor form or register online!  Or\, email Vicki at vlenneman@StCloudAreaChamber.com. \n\n\n\nTHANK YOU TO OUR 2025 GAVEL CHANGE SPONSORS!
X-ALT-DESC;FMTTYPE=text/html:<strong>Gavel Change - August 22\, 2025</strong><br />\n<br />\n<strong><em><span style="color:#0000FF\;">To be a Gavel Change sponsor\, contact any of the Chamber Connection &quot\;Fun&quot\; Location Committee members for a sponsor form or register online!&nbsp\; Or\, email Vicki at vlenneman@StCloudAreaChamber.com.&nbsp\;</span></em></strong><br />\n<br />\n<span style="color:#B22222\;"><span style="font-size:22px\;"><strong><em>THANK YOU TO OUR 2025 GAVEL CHANGE SPONSORS!</em></strong></span></span>
LOCATION:Holiday Inn & Suites 75 37th Ave S St. Cloud\, MN
UID:e.2754.12224
SEQUENCE:3
DTSTAMP:20260422T235437Z
URL:https://chambermaster.businesscentralmagazine.com/events/details/chamber-connection-gavel-change-august-22-2025-12224
END:VEVENT

END:VCALENDAR
