BEGIN:VCALENDAR
VERSION:2.0
PRODID:-//ChamberMaster//Event Calendar 2.0//EN
METHOD:PUBLISH
X-PUBLISHED-TTL:P3D
REFRESH-INTERVAL:P3D
CALSCALE:GREGORIAN
BEGIN:VEVENT
DTSTART:19971205T060000Z
DTEND:19971205T060000Z
X-MICROSOFT-CDO-ALLDAYEVENT:FALSE
SUMMARY:Chamber Connection Birthday Party 12/97
DESCRIPTION:Chamber Connection Birthday Party 12/97
X-ALT-DESC;FMTTYPE=text/html:Chamber Connection Birthday Party 12/97
LOCATION:
UID:e.2754.2282
SEQUENCE:3
DTSTAMP:20260422T120802Z
URL:https://chambermaster.businesscentralmagazine.com/events/details/chamber-connection-birthday-party-12-97-12-05-1997-2282
END:VEVENT

END:VCALENDAR
