BEGIN:VCALENDAR
VERSION:2.0
PRODID:-//ChamberMaster//Event Calendar 2.0//EN
METHOD:PUBLISH
X-PUBLISHED-TTL:P3D
REFRESH-INTERVAL:P3D
CALSCALE:GREGORIAN
BEGIN:VEVENT
DTSTART:20251205T130000Z
DTEND:20251205T150000Z
X-MICROSOFT-CDO-ALLDAYEVENT:FALSE
SUMMARY:Chamber Connection 36th Annual Birthday Party 12/5/2025
DESCRIPTION:To be a Birthday Party sponsor\, contact any of the Chamber Connection "Fun" Location Committee members for a sponsor form!  Or\, email Vicki at vlenneman@StCloudAreaChamber.com.\n\n\n\nTHANK YOU TO OUR BIRTHDAY PARTY SPONSORS!
X-ALT-DESC;FMTTYPE=text/html:<strong><em><span style="color: rgb(0\, 0\, 255)\;">To be a Birthday Party sponsor\, contact any of the Chamber Connection &quot\;Fun&quot\; Location Committee members for a sponsor form!&nbsp\; Or\, email Vicki at vlenneman@StCloudAreaChamber.com.</span></em></strong><br />\n<br />\n<span style="color:#B22222\;"><strong style="color: rgb(0\, 0\, 255)\; font-family: sans-serif\, Arial\, Verdana\, &quot\;Trebuchet MS&quot\;\; font-size: 22px\; background-color: rgb(255\, 255\, 255)\;"><em><span style="font-size:20px\;">THANK YOU TO OUR BIRTHDAY PARTY SPONSORS!</span></em></strong></span>
LOCATION:Best Western Kelly Inn 100 4th Ave. S. Saint Cloud\, MN 56301-3615
UID:e.2754.12240
SEQUENCE:3
DTSTAMP:20260422T140012Z
URL:https://chambermaster.businesscentralmagazine.com/events/details/chamber-connection-36th-annual-birthday-party-12-5-2025-12240
END:VEVENT

END:VCALENDAR
