BEGIN:VCALENDAR
VERSION:2.0
PRODID:-//ChamberMaster//Event Calendar 2.0//EN
METHOD:PUBLISH
X-PUBLISHED-TTL:P3D
REFRESH-INTERVAL:P3D
CALSCALE:GREGORIAN
BEGIN:VEVENT
DTSTART:19960509T050000Z
DTEND:19960509T050000Z
X-MICROSOFT-CDO-ALLDAYEVENT:FALSE
SUMMARY:Chamber Business Award Luncheon May 9\, 1996
DESCRIPTION:Chamber Business Award Luncheon May 9\, 1996
X-ALT-DESC;FMTTYPE=text/html:Chamber Business Award Luncheon May 9\, 1996
LOCATION:Holiday Inn
UID:e.2754.2210
SEQUENCE:3
DTSTAMP:20260423T171638Z
URL:https://chambermaster.businesscentralmagazine.com/events/details/chamber-business-award-luncheon-may-9-1996-05-09-1996-2210
END:VEVENT

END:VCALENDAR
