BEGIN:VCALENDAR
VERSION:2.0
PRODID:-//ChamberMaster//Event Calendar 2.0//EN
METHOD:PUBLISH
X-PUBLISHED-TTL:P3D
REFRESH-INTERVAL:P3D
CALSCALE:GREGORIAN
BEGIN:VEVENT
DTSTART:19970624T050000Z
DTEND:19970624T050000Z
X-MICROSOFT-CDO-ALLDAYEVENT:FALSE
SUMMARY:Chairperson's lunch to honor Jim Hoolihan
DESCRIPTION:Chairperson's lunch to honor Jim Hoolihan
X-ALT-DESC;FMTTYPE=text/html:Chairperson's lunch to honor Jim Hoolihan
LOCATION:Clearwater Estates
UID:e.2754.2254
SEQUENCE:3
DTSTAMP:20260422T211723Z
URL:https://chambermaster.businesscentralmagazine.com/events/details/chairperson-s-lunch-to-honor-jim-hoolihan-06-24-1997-2254
END:VEVENT

END:VCALENDAR
