BEGIN:VCALENDAR
VERSION:2.0
PRODID:-//ChamberMaster//Event Calendar 2.0//EN
METHOD:PUBLISH
X-PUBLISHED-TTL:P3D
REFRESH-INTERVAL:P3D
CALSCALE:GREGORIAN
BEGIN:VEVENT
DTSTART:19980623T050000Z
DTEND:19980623T050000Z
X-MICROSOFT-CDO-ALLDAYEVENT:FALSE
SUMMARY:Chairperson's lunch to honor Jack Amundson
DESCRIPTION:Chairperson's lunch to honor Jack Amundson
X-ALT-DESC;FMTTYPE=text/html:Chairperson's lunch to honor Jack Amundson
LOCATION:Clearwater Estates
UID:e.2754.2300
SEQUENCE:3
DTSTAMP:20260420T022134Z
URL:https://chambermaster.businesscentralmagazine.com/events/details/chairperson-s-lunch-to-honor-jack-amundson-06-23-1998-2300
END:VEVENT

END:VCALENDAR
