BEGIN:VCALENDAR
VERSION:2.0
PRODID:-//ChamberMaster//Event Calendar 2.0//EN
METHOD:PUBLISH
X-PUBLISHED-TTL:P3D
REFRESH-INTERVAL:P3D
CALSCALE:GREGORIAN
BEGIN:VEVENT
DTSTART:20250822T140000Z
DTEND:20250822T180000Z
X-MICROSOFT-CDO-ALLDAYEVENT:FALSE
SUMMARY:Central MN Challenge Mini Golf Cup
DESCRIPTION:Come join the St. Cloud Rox and Central MN Auto Care Association as they host the 4th annual Challenge Cup Tournament! Proceeds of this event go towards the Rox Community Foundation and Central MN Auto Care Association to help fund scholarships for those going into the automotive industry!\n\n\n\nEVENT DATE: Friday\, August 22nd\, 2025\n\nLOCATION: Summerland Family Fun Park\, Sauk Rapids\n\nCOURSE PLAY: 36 Holes   Two 18 Hole Courses (The Lakes Adventure & Bear Kountry)\n\nSCHEDULE OF EVENTS:\n\n9:00 9:45 AM   Registration / Tee-2-Cup Contest Play / Silent Auction\n\n9:45 AM   Welcome / Discuss Tournament Rules\n\n10:00 AM   Shotgun Start Begins\n\n12:00 PM   Lunch\n\n12:30 PM   Awards Program / Announce Silent Auction Winners
X-ALT-DESC;FMTTYPE=text/html:<span style="color:#000000"><span style="font-size:12px"><span style="font-family:arial\,helvetica\,sans-serif">Come join the St. Cloud Rox and Central MN Auto Care Association as they host the 4th annual Challenge Cup Tournament! Proceeds of this event go towards the Rox Community Foundation and Central MN Auto Care Association to help fund scholarships for those going into the automotive industry!<br />\n<br />\nEVENT DATE:&nbsp\;Friday\, August 22nd\, 2025<br />\nLOCATION:&nbsp\;Summerland Family Fun Park\, Sauk Rapids<br />\nCOURSE PLAY:&nbsp\;36 Holes &ndash\; Two 18 Hole Courses (The Lakes Adventure &amp\; Bear Kountry)<br />\n<u>SCHEDULE OF EVENTS:</u><br />\n9:00&ndash\;9:45 AM &ndash\; Registration / Tee-2-Cup Contest Play / Silent Auction<br />\n9:45 AM &ndash\; Welcome / Discuss Tournament Rules<br />\n10:00 AM &ndash\; Shotgun Start Begins<br />\n12:00 PM &ndash\; Lunch<br />\n12:30 PM &ndash\; Awards Program / Announce Silent Auction Winners</span></span></span>
LOCATION:Summerland Family Fun Park\, Sauk Rapids
UID:e.2754.12309
SEQUENCE:3
DTSTAMP:20260422T234449Z
URL:https://chambermaster.businesscentralmagazine.com/events/details/central-mn-challenge-mini-golf-cup-12309
END:VEVENT

END:VCALENDAR
