BEGIN:VCALENDAR
VERSION:2.0
PRODID:-//ChamberMaster//Event Calendar 2.0//EN
METHOD:PUBLISH
X-PUBLISHED-TTL:P3D
REFRESH-INTERVAL:P3D
CALSCALE:GREGORIAN
BEGIN:VEVENT
DTSTART:20260224T150000Z
DTEND:20260225T220000Z
X-MICROSOFT-CDO-ALLDAYEVENT:FALSE
SUMMARY:Central Minnesota Farm Show 2026
DESCRIPTION:BOOTH SPACE IS SOLD OUT!\n\n\n\nCentral MN Farm Show February 24-25\, 2026\n\nClick the "REGISTER" button on the right side of this page to purchase a sponsorship. \n\nNOTE: Non-Chamber members enter your email address to log in to register.\n\nView more Central Minnesota Farm Show informaton \n\n\n\nAccessory orders must be placed by February 1\, 2026 by 5:00 p.m.  \n\nBooth accessories may be available on Monday February 23 during set up on a limited basis and at a higher rate.  At that point you will work with and pay the accessories company directly.
X-ALT-DESC;FMTTYPE=text/html:<span style="font-size:18px\;"><u><strong>BOOTH SPACE IS SOLD OUT!</strong></u></span><br />\n<br />\nCentral MN Farm Show February 24-25\, 2026<br />\nClick the <strong><span style="color:#0000FF\;">&quot\;REGISTER&quot\;</span></strong> button on the right side of this page to purchase a sponsorship.&nbsp\;<br />\n<u><strong>NOTE:</strong></u> Non-Chamber members enter your email address to log in to register.<br />\n<a href="https://www.stcloudareachamber.com/programs/networking-special-events/farm-show/" target="_blank"><span style="color:#0000FF\;"><em><strong>View more Central Minnesota Farm Show informaton&nbsp\;</strong></em></span></a><br />\n<br />\nAccessory orders must be placed by&nbsp\;<span style="color: rgb(178\, 34\, 34)\;"><strong><span style="font-size: 14px\;">February 1\, 2026</span></strong></span>&nbsp\;by 5:00 p.m.&nbsp\;&nbsp\;<br />\nBooth accessories may be available on Monday February 23 during set up on a limited basis and at a higher rate.&nbsp\; At that point you will work with and pay the accessories company directly.
LOCATION:River's Edge Convention Center\, St. Cloud\, MN
UID:e.2754.12354
SEQUENCE:3
DTSTAMP:20260422T105213Z
URL:https://chambermaster.businesscentralmagazine.com/events/details/central-minnesota-farm-show-2026-12354
END:VEVENT

END:VCALENDAR
