BEGIN:VCALENDAR
VERSION:2.0
PRODID:-//ChamberMaster//Event Calendar 2.0//EN
METHOD:PUBLISH
X-PUBLISHED-TTL:P3D
REFRESH-INTERVAL:P3D
CALSCALE:GREGORIAN
BEGIN:VEVENT
DTSTART:20250421T140000Z
DTEND:20250421T200000Z
X-MICROSOFT-CDO-ALLDAYEVENT:FALSE
SUMMARY:CentraCare Employer Summit 2025
DESCRIPTION:CentraCare Employer Summit 2025\n\nWe wanted to personally thank you and invite you to the upcoming CentraCare Employer Summit 2025 in St. Cloud for an insightful day of presentations and roundtable discussions designed to help you effectively support challenging health-related issues that impact your employees' overall wellbeing and workplace success.\n\n- Strategies to assist employees dealing with addiction and mental health         \n\n  challenges.\n\n- Approaches to managing pain and migraines\, the leading cause of workplace\n\n  absences in the U.S.\n\n- A deeper understanding of social determinants of health\, their impact on your\n\n  employees and how you can make a difference. \n\n- Walk away better prepared and equipped with knowledge and resources to\n\n  navigate these important topics with your employees so you can support them on\n\n  their journey to better health. \n\nTO REGISTER - PLEASE FOLLOW THIS LINK: https://www.centracare.com/classes-events/search-results-detail/?eventId=8b2699bd-e300-f011-a87a-000d3a611c21\n\n \n\nJoin us for the 2025 Employer Summits! For more information click on the link below:\n\nSt. Cloud 2025 Employer Summit | CentraCare\n\n \n\n	Event Dates: \n	\n		St Cloud: 4/21/25\n		Willmar: 8/14/25
X-ALT-DESC;FMTTYPE=text/html:<strong><span style="color:red\;"><span style="font-size:13.5pt\;">CentraCare Employer Summit 2025</span></span></strong><br />\n<span style="color:black\;">We wanted to personally&nbsp\;thank you and invite you to the upcoming&nbsp\;<strong>CentraCare Employer Summit 2025 in St. Cloud for an insightful day of presentations and roundtable discussions designed to help you effectively support challenging health-related issues that impact your employees&#39\; overall wellbeing and workplace success.</strong></span><br />\n<strong><span style="color:black\;">- Strategies to assist employees dealing with addiction and mental health&nbsp\; &nbsp\; &nbsp\; &nbsp\; &nbsp\;</span></strong><br />\n<strong><span style="color:black\;">&nbsp\; challenges.</span></strong><br />\n<strong><span style="color:black\;">- Approaches to managing pain and migraines\, the leading cause of workplace<br />\n&nbsp\; absences in the U.S.</span></strong><br />\n<strong><span style="color:black\;">- A deeper understanding of social determinants of health\, their impact on your<br />\n&nbsp\; employees and how you can make a difference.&nbsp\;</span></strong><br />\n<strong><span style="color:black\;">- Walk away better prepared and equipped with knowledge and resources to<br />\n&nbsp\; navigate these important topics with your employees so you can support them on<br />\n&nbsp\; their journey to better health.&nbsp\;</span></strong><br />\n<strong><span style="color:black\;">TO REGISTER - PLEASE FOLLOW THIS LINK:&nbsp\;<a href="https://www.centracare.com/classes-events/search-results-detail/?eventId=8b2699bd-e300-f011-a87a-000d3a611c21" target="_blank">https://www.centracare.com/classes-events/search-results-detail/?eventId=8b2699bd-e300-f011-a87a-000d3a611c21</a></span></strong><br />\n&nbsp\;<br />\n<span style="color:#C82613\;">Join us for the 2025 Employer Summits! For more information click on the link below:</span><br />\n<span style="color:black\;"><a href="https://www.centracare.com/classes-events/search-results-detail/?eventId=8b2699bd-e300-f011-a87a-000d3a611c21" target="_blank">St. Cloud 2025 Employer Summit | CentraCare</a></span><br />\n&nbsp\;\n<ol>\n	<li style="color:#C82613\;">Event Dates:&nbsp\;\n	<ol>\n		<li><span style="color:#C82613\;">St Cloud: 4/21/25</span></li>\n		<li><span style="color:#C82613\;">Willmar: 8/14/25</span></li>\n	</ol>\n	</li>\n</ol>\n
LOCATION:CentraCare Plaza 1900 CentraCare Cir Saint Cloud\, MN 56303
UID:e.2754.11477
SEQUENCE:3
DTSTAMP:20260423T053017Z
URL:https://chambermaster.businesscentralmagazine.com/events/details/centracare-employer-summit-2025-11477
END:VEVENT

END:VCALENDAR
