BEGIN:VCALENDAR
VERSION:2.0
PRODID:-//ChamberMaster//Event Calendar 2.0//EN
METHOD:PUBLISH
X-PUBLISHED-TTL:P3D
REFRESH-INTERVAL:P3D
CALSCALE:GREGORIAN
BEGIN:VEVENT
DTSTART;VALUE=DATE:19970318
DTEND;VALUE=DATE:19970319
TRANSP:TRANSPARENT
X-MICROSOFT-CDO-ALLDAYEVENT:TRUE
SUMMARY:Carnival of Opportunity for 1997
DESCRIPTION:
X-ALT-DESC;FMTTYPE=text/html:
LOCATION:Holiday Inn Hotel and Suites
UID:e.2754.543
SEQUENCE:3
DTSTAMP:20260423T014348Z
URL:https://chambermaster.businesscentralmagazine.com/events/details/carnival-of-opportunity-for-1997-03-18-1997-543
END:VEVENT

END:VCALENDAR
