BEGIN:VCALENDAR
VERSION:2.0
PRODID:-//ChamberMaster//Event Calendar 2.0//EN
METHOD:PUBLISH
X-PUBLISHED-TTL:P3D
REFRESH-INTERVAL:P3D
CALSCALE:GREGORIAN
BEGIN:VEVENT
DTSTART:19970318T060000Z
DTEND:19970320T060000Z
X-MICROSOFT-CDO-ALLDAYEVENT:FALSE
SUMMARY:Carnival of Opportunity for 1997
DESCRIPTION:Carnival of Opportunity for 1997
X-ALT-DESC;FMTTYPE=text/html:Carnival of Opportunity for 1997
LOCATION:Holiday Inn Hotel and Suites
UID:e.2754.2244
SEQUENCE:3
DTSTAMP:20260423T014441Z
URL:https://chambermaster.businesscentralmagazine.com/events/details/carnival-of-opportunity-for-1997-03-18-1997-2244
END:VEVENT

END:VCALENDAR
