BEGIN:VCALENDAR
VERSION:2.0
PRODID:-//ChamberMaster//Event Calendar 2.0//EN
METHOD:PUBLISH
X-PUBLISHED-TTL:P3D
REFRESH-INTERVAL:P3D
CALSCALE:GREGORIAN
BEGIN:VEVENT
DTSTART:20250826T200000Z
DTEND:20250827T000000Z
X-MICROSOFT-CDO-ALLDAYEVENT:FALSE
SUMMARY:Busting Clays For Cancer
DESCRIPTION:Busting Clays for Cancer\n\nTake aim at cancer and join us for Busting Clays for Cancer a fun and impactful clay shooting fundraiser to benefit the American Cancer Society. Whether you're a seasoned shooter or a first-timer\, come enjoy a day of friendly competition\, food\, door prizes\, and community spirit all while supporting the fight against cancer.\n\n?? Date: August 26\, 2025\n\n?? Location: Sartell Community Center\n\n?? Time: Registration/ check in is open from 3p - 4p with safety meeting and shooting @ 4p\n\nRegister or learn more at bustingclays.givesmart.com
X-ALT-DESC;FMTTYPE=text/html:<p><strong>Busting Clays for Cancer</strong><br />\nTake aim at cancer and join us for <em>Busting Clays for Cancer</em>&mdash\;a fun and impactful clay shooting fundraiser to benefit the American Cancer Society. Whether you&#39\;re a seasoned shooter or a first-timer\, come enjoy a day of friendly competition\, food\, door prizes\, and community spirit&mdash\;all while supporting the fight against cancer.</p>\n\n<p>?? <strong>Date:</strong>&nbsp\;August 26\, 2025<br />\n?? <strong>Location:</strong>&nbsp\;Sartell Community Center<br />\n?? <strong>Time:</strong>&nbsp\;Registration/ check in is open from 3p - 4p with safety meeting and shooting @ 4p</p>\n\n<p>Register or learn more at bustingclays.givesmart.com</p>\n
LOCATION:Alexandria Shooting Park 6533 County Road 87 SE Alexandria\, MN 56308
UID:e.2754.12274
SEQUENCE:3
DTSTAMP:20260423T011240Z
URL:https://chambermaster.businesscentralmagazine.com/events/details/busting-clays-for-cancer-08-26-2025-12274
END:VEVENT

END:VCALENDAR
