BEGIN:VCALENDAR
VERSION:2.0
PRODID:-//ChamberMaster//Event Calendar 2.0//EN
METHOD:PUBLISH
X-PUBLISHED-TTL:P3D
REFRESH-INTERVAL:P3D
CALSCALE:GREGORIAN
BEGIN:VEVENT
DTSTART:19990318T060000Z
DTEND:19990318T060000Z
X-MICROSOFT-CDO-ALLDAYEVENT:FALSE
SUMMARY:Business Enhancement Seminar ''What Does the Future Hold''
DESCRIPTION:Business Enhancement Seminar "What Does the Future Hold"
X-ALT-DESC;FMTTYPE=text/html:Business Enhancement Seminar "What Does the Future Hold"
LOCATION:
UID:e.2754.2320
SEQUENCE:3
DTSTAMP:20260419T130859Z
URL:https://chambermaster.businesscentralmagazine.com/events/details/business-enhancement-seminar-what-does-the-future-hold-03-18-1999-2320
END:VEVENT

END:VCALENDAR
