BEGIN:VCALENDAR
VERSION:2.0
PRODID:-//ChamberMaster//Event Calendar 2.0//EN
METHOD:PUBLISH
X-PUBLISHED-TTL:P3D
REFRESH-INTERVAL:P3D
CALSCALE:GREGORIAN
BEGIN:VEVENT
DTSTART:19980917T050000Z
DTEND:19980917T050000Z
X-MICROSOFT-CDO-ALLDAYEVENT:FALSE
SUMMARY:Business Enhancement Seminar ''Small Decencies''
DESCRIPTION:Business Enhancement Seminar "Small Decencies"
X-ALT-DESC;FMTTYPE=text/html:Business Enhancement Seminar "Small Decencies"
LOCATION:
UID:e.2754.2316
SEQUENCE:3
DTSTAMP:20260419T215755Z
URL:https://chambermaster.businesscentralmagazine.com/events/details/business-enhancement-seminar-small-decencies-09-17-1998-2316
END:VEVENT

END:VCALENDAR
