BEGIN:VCALENDAR
VERSION:2.0
PRODID:-//ChamberMaster//Event Calendar 2.0//EN
METHOD:PUBLISH
X-PUBLISHED-TTL:P3D
REFRESH-INTERVAL:P3D
CALSCALE:GREGORIAN
BEGIN:VEVENT
DTSTART:19981015T050000Z
DTEND:19981015T050000Z
X-MICROSOFT-CDO-ALLDAYEVENT:FALSE
SUMMARY:Business Enhancement Seminar ''Sales for the Non-Sales''
DESCRIPTION:Business Enhancement Seminar "Sales for the Non-Sales"
X-ALT-DESC;FMTTYPE=text/html:Business Enhancement Seminar "Sales for the Non-Sales"
LOCATION:
UID:e.2754.2317
SEQUENCE:3
DTSTAMP:20260419T202045Z
URL:https://chambermaster.businesscentralmagazine.com/events/details/business-enhancement-seminar-sales-for-the-non-sales-10-15-1998-2317
END:VEVENT

END:VCALENDAR
