BEGIN:VCALENDAR
VERSION:2.0
PRODID:-//ChamberMaster//Event Calendar 2.0//EN
METHOD:PUBLISH
X-PUBLISHED-TTL:P3D
REFRESH-INTERVAL:P3D
CALSCALE:GREGORIAN
BEGIN:VEVENT
DTSTART;VALUE=DATE:19981015
DTEND;VALUE=DATE:19981016
TRANSP:TRANSPARENT
X-MICROSOFT-CDO-ALLDAYEVENT:TRUE
SUMMARY:Business Enhancement Seminar ''Sales for
DESCRIPTION:
X-ALT-DESC;FMTTYPE=text/html:
LOCATION:
UID:e.2754.626
SEQUENCE:3
DTSTAMP:20260419T201757Z
URL:https://chambermaster.businesscentralmagazine.com/events/details/business-enhancement-seminar-sales-for-10-15-1998-626
END:VEVENT

END:VCALENDAR
