BEGIN:VCALENDAR
VERSION:2.0
PRODID:-//ChamberMaster//Event Calendar 2.0//EN
METHOD:PUBLISH
X-PUBLISHED-TTL:P3D
REFRESH-INTERVAL:P3D
CALSCALE:GREGORIAN
BEGIN:VEVENT
DTSTART:19990218T060000Z
DTEND:19990218T060000Z
X-MICROSOFT-CDO-ALLDAYEVENT:FALSE
SUMMARY:Business Enhancement Seminar ''Retaining Customers''
DESCRIPTION:Business Enhancement Seminar "Retaining Customers"
X-ALT-DESC;FMTTYPE=text/html:Business Enhancement Seminar "Retaining Customers"
LOCATION:
UID:e.2754.2321
SEQUENCE:3
DTSTAMP:20260419T144509Z
URL:https://chambermaster.businesscentralmagazine.com/events/details/business-enhancement-seminar-retaining-customers-02-18-1999-2321
END:VEVENT

END:VCALENDAR
