BEGIN:VCALENDAR
VERSION:2.0
PRODID:-//ChamberMaster//Event Calendar 2.0//EN
METHOD:PUBLISH
X-PUBLISHED-TTL:P3D
REFRESH-INTERVAL:P3D
CALSCALE:GREGORIAN
BEGIN:VEVENT
DTSTART;VALUE=DATE:19961122
DTEND;VALUE=DATE:19961123
TRANSP:TRANSPARENT
X-MICROSOFT-CDO-ALLDAYEVENT:TRUE
SUMMARY:business enhancement Seminar
DESCRIPTION:
X-ALT-DESC;FMTTYPE=text/html:
LOCATION:Holiday Inn
UID:e.2754.536
SEQUENCE:3
DTSTAMP:20260423T074710Z
URL:https://chambermaster.businesscentralmagazine.com/events/details/business-enhancement-seminar-11-22-1996-536
END:VEVENT

END:VCALENDAR
