BEGIN:VCALENDAR
VERSION:2.0
PRODID:-//ChamberMaster//Event Calendar 2.0//EN
METHOD:PUBLISH
X-PUBLISHED-TTL:P3D
REFRESH-INTERVAL:P3D
CALSCALE:GREGORIAN
BEGIN:VEVENT
DTSTART;VALUE=DATE:19960411
DTEND;VALUE=DATE:19960412
TRANSP:TRANSPARENT
X-MICROSOFT-CDO-ALLDAYEVENT:TRUE
SUMMARY:Business Dev. Program and Team Members m
DESCRIPTION:
X-ALT-DESC;FMTTYPE=text/html:
LOCATION:
UID:e.2754.522
SEQUENCE:3
DTSTAMP:20260423T184150Z
URL:https://chambermaster.businesscentralmagazine.com/events/details/business-dev-program-and-team-members-m-04-11-1996-522
END:VEVENT

END:VCALENDAR
