BEGIN:VCALENDAR
VERSION:2.0
PRODID:-//ChamberMaster//Event Calendar 2.0//EN
METHOD:PUBLISH
X-PUBLISHED-TTL:P3D
REFRESH-INTERVAL:P3D
CALSCALE:GREGORIAN
BEGIN:VEVENT
DTSTART:20250507T163000Z
DTEND:20250507T183000Z
X-MICROSOFT-CDO-ALLDAYEVENT:FALSE
SUMMARY:Business Awards Luncheon 5-7-2025
DESCRIPTION:Each year\, the St. Cloud Area Chamber of Commerce recognizes the outstanding work of area business leaders\, owners\, and changemakers in Central Minnesota at the Business Awards Luncheon. \n\n\n\nWe are excited to announce our 2025 winners!\n\n\n\n2025 Small Business Owners of the Year\n\nMike and DeNae Hiltner\, Great Harvest Bread\n\n\n\n2025 Entrepreneurial Success Award\n\nJim Beck and John Malikowski\, Modern Barnyard\n\n\n\n2025 Business Central Mark of Excellence: Family-Owned Business of the Year\n\nDoug Jr and Deb Dingmann\, Williams Dingmann Family Funeral Homes
X-ALT-DESC;FMTTYPE=text/html:<span style="color:black\;">Each year\, the St. Cloud Area Chamber of Commerce recognizes the outstanding work of area business leaders\, owners\, and changemakers in Central Minnesota at the Business Awards Luncheon.&nbsp\;<br />\n<br />\n<strong>We are excited to announce our 2025 winners!</strong></span><br />\n<br />\n<strong>2025 Small Business Owners of the Year</strong><br />\nMike and DeNae Hiltner\, Great Harvest Bread<br />\n<br />\n<strong>2025 Entrepreneurial Success Award</strong><br />\nJim Beck and John Malikowski\, Modern Barnyard<br />\n<br />\n<strong>2025 Business Central Mark of Excellence: Family-Owned Business of the Year</strong><br />\nDoug Jr and Deb Dingmann\, Williams Dingmann Family Funeral Homes<br />\n<br />\n&nbsp\;
LOCATION:The Park Event Center 500 Division Street Waite Park\, MN 56387-1334
UID:e.2754.11453
SEQUENCE:3
DTSTAMP:20260423T041201Z
URL:https://chambermaster.businesscentralmagazine.com/events/details/business-awards-luncheon-5-7-2025-11453
END:VEVENT

END:VCALENDAR
