BEGIN:VCALENDAR
VERSION:2.0
PRODID:-//ChamberMaster//Event Calendar 2.0//EN
METHOD:PUBLISH
X-PUBLISHED-TTL:P3D
REFRESH-INTERVAL:P3D
CALSCALE:GREGORIAN
BEGIN:VEVENT
DTSTART;VALUE=DATE:19980521
DTEND;VALUE=DATE:19980522
TRANSP:TRANSPARENT
X-MICROSOFT-CDO-ALLDAYEVENT:TRUE
SUMMARY:Business Awards Luncheon 1998
DESCRIPTION:
X-ALT-DESC;FMTTYPE=text/html:
LOCATION:
UID:e.2754.599
SEQUENCE:3
DTSTAMP:20260420T033819Z
URL:https://chambermaster.businesscentralmagazine.com/events/details/business-awards-luncheon-1998-05-21-1998-599
END:VEVENT

END:VCALENDAR
