BEGIN:VCALENDAR
VERSION:2.0
PRODID:-//ChamberMaster//Event Calendar 2.0//EN
METHOD:PUBLISH
X-PUBLISHED-TTL:P3D
REFRESH-INTERVAL:P3D
CALSCALE:GREGORIAN
BEGIN:VEVENT
DTSTART:19980521T050000Z
DTEND:19980521T050000Z
X-MICROSOFT-CDO-ALLDAYEVENT:FALSE
SUMMARY:Business Awards Luncheon 1998
DESCRIPTION:Business Awards Luncheon 1998
X-ALT-DESC;FMTTYPE=text/html:Business Awards Luncheon 1998
LOCATION:
UID:e.2754.2292
SEQUENCE:3
DTSTAMP:20260420T033856Z
URL:https://chambermaster.businesscentralmagazine.com/events/details/business-awards-luncheon-1998-05-21-1998-2292
END:VEVENT

END:VCALENDAR
