BEGIN:VCALENDAR
VERSION:2.0
PRODID:-//ChamberMaster//Event Calendar 2.0//EN
METHOD:PUBLISH
X-PUBLISHED-TTL:P3D
REFRESH-INTERVAL:P3D
CALSCALE:GREGORIAN
BEGIN:VEVENT
DTSTART:19990330T060000Z
DTEND:19990330T060000Z
X-MICROSOFT-CDO-ALLDAYEVENT:FALSE
SUMMARY:Business After Hours Extra 1999
DESCRIPTION:Business After Hours Extra 1999
X-ALT-DESC;FMTTYPE=text/html:Business After Hours Extra 1999
LOCATION:
UID:e.2754.2328
SEQUENCE:3
DTSTAMP:20260419T130715Z
URL:https://chambermaster.businesscentralmagazine.com/events/details/business-after-hours-extra-1999-03-30-1999-2328
END:VEVENT

END:VCALENDAR
