BEGIN:VCALENDAR
VERSION:2.0
PRODID:-//ChamberMaster//Event Calendar 2.0//EN
METHOD:PUBLISH
X-PUBLISHED-TTL:P3D
REFRESH-INTERVAL:P3D
CALSCALE:GREGORIAN
BEGIN:VEVENT
DTSTART:19980428T050000Z
DTEND:19980428T050000Z
X-MICROSOFT-CDO-ALLDAYEVENT:FALSE
SUMMARY:Business After Hours Extra
DESCRIPTION:Business After Hours Extra
X-ALT-DESC;FMTTYPE=text/html:Business After Hours Extra
LOCATION:Kelly Inn
UID:e.2754.2283
SEQUENCE:3
DTSTAMP:20260420T050924Z
URL:https://chambermaster.businesscentralmagazine.com/events/details/business-after-hours-extra-04-28-1998-2283
END:VEVENT

END:VCALENDAR
