BEGIN:VCALENDAR
VERSION:2.0
PRODID:-//ChamberMaster//Event Calendar 2.0//EN
METHOD:PUBLISH
X-PUBLISHED-TTL:P3D
REFRESH-INTERVAL:P3D
CALSCALE:GREGORIAN
BEGIN:VEVENT
DTSTART:20250730T213000Z
DTEND:20250730T233000Z
X-MICROSOFT-CDO-ALLDAYEVENT:FALSE
SUMMARY:Business After Hours 7/30/2025
DESCRIPTION:Business After Hours is an opportunity to network and socialize with other Chamber members in an informal setting. Because there is no program\, you have the freedom to come and go as your schedule permits. You can expect a variety of light snacks and beverages.
X-ALT-DESC;FMTTYPE=text/html:<br />\n<br />\n<span style="color: rgb(0\, 0\, 0)\; font-family: calibri\, sans-serif\; font-size: 16px\;">Business After Hours is an opportunity to network and socialize with other Chamber members in an informal setting. Because there is no program\, you have the freedom to come and go as your schedule permits. You can expect a variety of light snacks and beverages.&nbsp\;</span><br />\n&nbsp\;
LOCATION:Two Men and A Truck 2330 County Road 137 Waite Park\, MN 56387-2012
UID:e.2754.12297
SEQUENCE:3
DTSTAMP:20260423T011236Z
URL:https://chambermaster.businesscentralmagazine.com/events/details/business-after-hours-7-30-2025-12297
END:VEVENT

END:VCALENDAR
